Package: RTCGA.mutations Version: 20151101.37.0 Command: /home/biocbuild/bbs-3.21-bioc/R/bin/R CMD INSTALL RTCGA.mutations StartedAt: 2025-02-06 11:04:04 -0500 (Thu, 06 Feb 2025) EndedAt: 2025-02-06 11:07:09 -0500 (Thu, 06 Feb 2025) EllapsedTime: 185.0 seconds RetCode: 0 Status: OK