Package: RTCGA.rnaseq Version: 20151101.37.0 Command: /home/biocbuild/bbs-3.21-bioc/R/bin/R CMD INSTALL RTCGA.rnaseq StartedAt: 2025-02-04 11:04:10 -0500 (Tue, 04 Feb 2025) EndedAt: 2025-02-04 11:06:54 -0500 (Tue, 04 Feb 2025) EllapsedTime: 164.0 seconds RetCode: 0 Status: OK