Package: RnBeads.mm10 Version: 2.15.0 Command: /home/biocbuild/bbs-3.21-bioc/R/bin/R CMD check --install=check:RnBeads.mm10.install-out.txt --library=/home/biocbuild/bbs-3.21-bioc/R/site-library --timings RnBeads.mm10_2.15.0.tar.gz StartedAt: 2025-02-04 12:35:32 -0500 (Tue, 04 Feb 2025) EndedAt: 2025-02-04 12:37:45 -0500 (Tue, 04 Feb 2025) EllapsedTime: 133.7 seconds RetCode: 0 Status: OK CheckDir: RnBeads.mm10.Rcheck Warnings: 0