Package: RnBeads.rn5 Version: 1.39.0 Command: /home/biocbuild/bbs-3.21-bioc/R/bin/R CMD check --install=check:RnBeads.rn5.install-out.txt --library=/home/biocbuild/bbs-3.21-bioc/R/site-library --timings RnBeads.rn5_1.39.0.tar.gz StartedAt: 2025-02-06 12:35:49 -0500 (Thu, 06 Feb 2025) EndedAt: 2025-02-06 12:38:25 -0500 (Thu, 06 Feb 2025) EllapsedTime: 155.3 seconds RetCode: 0 Status: OK CheckDir: RnBeads.rn5.Rcheck Warnings: 0