Package: SomaticCancerAlterations Version: 1.43.0 Command: /home/biocbuild/bbs-3.21-bioc/R/bin/R CMD build --keep-empty-dirs --no-resave-data SomaticCancerAlterations StartedAt: 2025-02-06 11:40:18 -0500 (Thu, 06 Feb 2025) EndedAt: 2025-02-06 11:40:46 -0500 (Thu, 06 Feb 2025) EllapsedTime: 27.6 seconds RetCode: 0 Status: OK PackageFile: SomaticCancerAlterations_1.43.0.tar.gz PackageFileSize: 4.442 MiB