Package: SpatialDatasets Version: 1.5.0 Command: /home/biocbuild/bbs-3.21-bioc/R/bin/R CMD build --keep-empty-dirs --no-resave-data SpatialDatasets StartedAt: 2025-02-04 11:40:27 -0500 (Tue, 04 Feb 2025) EndedAt: 2025-02-04 11:41:17 -0500 (Tue, 04 Feb 2025) EllapsedTime: 49.7 seconds RetCode: 0 Status: OK PackageFile: SpatialDatasets_1.5.0.tar.gz PackageFileSize: 223.5 KiB