Package: SpatialDatasets Version: 1.5.0 Command: /home/biocbuild/bbs-3.21-bioc/R/bin/R CMD check --install=check:SpatialDatasets.install-out.txt --library=/home/biocbuild/bbs-3.21-bioc/R/site-library --timings SpatialDatasets_1.5.0.tar.gz StartedAt: 2025-02-06 12:43:08 -0500 (Thu, 06 Feb 2025) EndedAt: 2025-02-06 12:46:26 -0500 (Thu, 06 Feb 2025) EllapsedTime: 198.4 seconds RetCode: 0 Status: WARNINGS CheckDir: SpatialDatasets.Rcheck Warnings: 3