Package: SpatialDatasets Version: 1.5.0 Command: /home/biocbuild/bbs-3.21-bioc/R/bin/R CMD INSTALL SpatialDatasets StartedAt: 2025-02-06 10:58:25 -0500 (Thu, 06 Feb 2025) EndedAt: 2025-02-06 10:58:54 -0500 (Thu, 06 Feb 2025) EllapsedTime: 28.5 seconds RetCode: 0 Status: OK