Package: SpikeIn Version: 1.49.0 Command: /home/biocbuild/bbs-3.21-bioc/R/bin/R CMD check --install=check:SpikeIn.install-out.txt --library=/home/biocbuild/bbs-3.21-bioc/R/site-library --timings SpikeIn_1.49.0.tar.gz StartedAt: 2025-02-04 12:44:20 -0500 (Tue, 04 Feb 2025) EndedAt: 2025-02-04 12:44:57 -0500 (Tue, 04 Feb 2025) EllapsedTime: 37.3 seconds RetCode: 0 Status: OK CheckDir: SpikeIn.Rcheck Warnings: 0