Package: SpikeInSubset Version: 1.47.0 Command: /home/biocbuild/bbs-3.21-bioc/R/bin/R CMD INSTALL SpikeInSubset StartedAt: 2025-02-06 10:56:14 -0500 (Thu, 06 Feb 2025) EndedAt: 2025-02-06 10:56:20 -0500 (Thu, 06 Feb 2025) EllapsedTime: 5.4 seconds RetCode: 0 Status: OK