Package: SubcellularSpatialData Version: 1.3.0 Command: /home/biocbuild/bbs-3.21-bioc/R/bin/R CMD build --keep-empty-dirs --no-resave-data SubcellularSpatialData StartedAt: 2025-02-06 11:40:46 -0500 (Thu, 06 Feb 2025) EndedAt: 2025-02-06 11:41:52 -0500 (Thu, 06 Feb 2025) EllapsedTime: 65.4 seconds RetCode: 0 Status: OK PackageFile: SubcellularSpatialData_1.3.0.tar.gz PackageFileSize: 2.311 MiB