Package: SubcellularSpatialData Version: 1.3.0 Command: /home/biocbuild/bbs-3.21-bioc/R/bin/R CMD INSTALL SubcellularSpatialData StartedAt: 2025-02-06 11:02:08 -0500 (Thu, 06 Feb 2025) EndedAt: 2025-02-06 11:02:10 -0500 (Thu, 06 Feb 2025) EllapsedTime: 2.0 seconds RetCode: 0 Status: OK