Package: TCGAbiolinksGUI.data Version: 1.27.0 Command: /home/biocbuild/bbs-3.21-bioc/R/bin/R CMD INSTALL TCGAbiolinksGUI.data StartedAt: 2025-02-06 10:55:21 -0500 (Thu, 06 Feb 2025) EndedAt: 2025-02-06 10:55:29 -0500 (Thu, 06 Feb 2025) EllapsedTime: 8.2 seconds RetCode: 0 Status: OK