Package: TENxBUSData Version: 1.21.0 Maintainer: Lambda Moses MaintainerEmail: dlu2 at caltech.edu git_url: https://git.bioconductor.org/packages/TENxBUSData git_branch: devel git_last_commit: c3090aa git_last_commit_date: 2024-10-29 09:50:26 -0500 (Tue, 29 Oct 2024)