Package: TENxBrainData Version: 1.27.0 Command: /home/biocbuild/bbs-3.21-bioc/R/bin/R CMD check --install=check:TENxBrainData.install-out.txt --library=/home/biocbuild/bbs-3.21-bioc/R/site-library --timings TENxBrainData_1.27.0.tar.gz StartedAt: 2025-02-06 12:48:20 -0500 (Thu, 06 Feb 2025) EndedAt: 2025-02-06 12:53:47 -0500 (Thu, 06 Feb 2025) EllapsedTime: 326.3 seconds RetCode: 0 Status: OK CheckDir: TENxBrainData.Rcheck Warnings: 0