Package: TENxPBMCData Version: 1.25.0 Maintainer: Stephanie Hicks MaintainerEmail: shicks19 at jhu.edu git_url: https://git.bioconductor.org/packages/TENxPBMCData git_branch: devel git_last_commit: 89cadcb git_last_commit_date: 2024-10-29 09:48:53 -0500 (Tue, 29 Oct 2024)