Package: TENxPBMCData Version: 1.25.0 Command: /home/biocbuild/bbs-3.21-bioc/R/bin/R CMD build --keep-empty-dirs --no-resave-data TENxPBMCData StartedAt: 2025-02-06 11:42:13 -0500 (Thu, 06 Feb 2025) EndedAt: 2025-02-06 11:43:07 -0500 (Thu, 06 Feb 2025) EllapsedTime: 53.5 seconds RetCode: 0 Status: OK PackageFile: TENxPBMCData_1.25.0.tar.gz PackageFileSize: 299.7 KiB