Package: TENxPBMCData Version: 1.25.0 Command: /home/biocbuild/bbs-3.21-bioc/R/bin/R CMD check --install=check:TENxPBMCData.install-out.txt --library=/home/biocbuild/bbs-3.21-bioc/R/site-library --timings TENxPBMCData_1.25.0.tar.gz StartedAt: 2025-02-06 12:48:44 -0500 (Thu, 06 Feb 2025) EndedAt: 2025-02-06 12:52:34 -0500 (Thu, 06 Feb 2025) EllapsedTime: 229.8 seconds RetCode: 0 Status: OK CheckDir: TENxPBMCData.Rcheck Warnings: 0