Package: TumourMethData Version: 1.5.0 Maintainer: Richard Heery MaintainerEmail: richardheery at gmail.com git_url: https://git.bioconductor.org/packages/TumourMethData git_branch: devel git_last_commit: fba5c2e git_last_commit_date: 2024-12-22 08:13:05 -0500 (Sun, 22 Dec 2024)