Package: TumourMethData Version: 1.5.0 Command: /home/biocbuild/bbs-3.21-bioc/R/bin/R CMD INSTALL TumourMethData StartedAt: 2025-02-04 10:58:14 -0500 (Tue, 04 Feb 2025) EndedAt: 2025-02-04 10:58:40 -0500 (Tue, 04 Feb 2025) EllapsedTime: 26.1 seconds RetCode: 0 Status: OK