Package: VariantToolsData Version: 1.31.0 Command: /home/biocbuild/bbs-3.21-bioc/R/bin/R CMD build --keep-empty-dirs --no-resave-data VariantToolsData StartedAt: 2025-02-04 11:44:04 -0500 (Tue, 04 Feb 2025) EndedAt: 2025-02-04 11:44:57 -0500 (Tue, 04 Feb 2025) EllapsedTime: 52.9 seconds RetCode: 0 Status: OK PackageFile: VariantToolsData_1.31.0.tar.gz PackageFileSize: 200.7 MiB