Package: VectraPolarisData Version: 1.11.0 Command: /home/biocbuild/bbs-3.21-bioc/R/bin/R CMD check --install=check:VectraPolarisData.install-out.txt --library=/home/biocbuild/bbs-3.21-bioc/R/site-library --timings VectraPolarisData_1.11.0.tar.gz StartedAt: 2025-02-06 12:53:27 -0500 (Thu, 06 Feb 2025) EndedAt: 2025-02-06 12:58:08 -0500 (Thu, 06 Feb 2025) EllapsedTime: 281.0 seconds RetCode: 0 Status: OK CheckDir: VectraPolarisData.Rcheck Warnings: 0