Package: VectraPolarisData Version: 1.11.0 Command: /home/biocbuild/bbs-3.21-bioc/R/bin/R CMD INSTALL VectraPolarisData StartedAt: 2025-02-13 11:00:18 -0500 (Thu, 13 Feb 2025) EndedAt: 2025-02-13 11:00:48 -0500 (Thu, 13 Feb 2025) EllapsedTime: 30.1 seconds RetCode: 0 Status: OK