Package: affydata Version: 1.55.0 Command: /home/biocbuild/bbs-3.21-bioc/R/bin/R CMD check --install=check:affydata.install-out.txt --library=/home/biocbuild/bbs-3.21-bioc/R/site-library --timings affydata_1.55.0.tar.gz StartedAt: 2025-02-06 11:46:48 -0500 (Thu, 06 Feb 2025) EndedAt: 2025-02-06 11:47:39 -0500 (Thu, 06 Feb 2025) EllapsedTime: 51.3 seconds RetCode: 0 Status: WARNINGS CheckDir: affydata.Rcheck Warnings: 2