Package: breastCancerUPP Version: 1.45.0 Command: /home/biocbuild/bbs-3.21-bioc/R/bin/R CMD build --keep-empty-dirs --no-resave-data breastCancerUPP StartedAt: 2025-02-04 11:08:26 -0500 (Tue, 04 Feb 2025) EndedAt: 2025-02-04 11:08:30 -0500 (Tue, 04 Feb 2025) EllapsedTime: 3.9 seconds RetCode: 0 Status: OK PackageFile: breastCancerUPP_1.45.0.tar.gz PackageFileSize: 29.59 MiB