Package: breastCancerUPP Version: 1.45.0 Command: /home/biocbuild/bbs-3.21-bioc/R/bin/R CMD check --install=check:breastCancerUPP.install-out.txt --library=/home/biocbuild/bbs-3.21-bioc/R/site-library --timings breastCancerUPP_1.45.0.tar.gz StartedAt: 2025-02-04 11:48:16 -0500 (Tue, 04 Feb 2025) EndedAt: 2025-02-04 11:50:42 -0500 (Tue, 04 Feb 2025) EllapsedTime: 146.1 seconds RetCode: 0 Status: WARNINGS CheckDir: breastCancerUPP.Rcheck Warnings: 1