Package: breastCancerUPP Version: 1.45.0 Command: /home/biocbuild/bbs-3.21-bioc/R/bin/R CMD INSTALL breastCancerUPP StartedAt: 2025-02-04 10:55:11 -0500 (Tue, 04 Feb 2025) EndedAt: 2025-02-04 10:55:14 -0500 (Tue, 04 Feb 2025) EllapsedTime: 2.5 seconds RetCode: 0 Status: OK