Package: breastCancerVDX Version: 1.45.0 Command: /home/biocbuild/bbs-3.21-bioc/R/bin/R CMD check --install=check:breastCancerVDX.install-out.txt --library=/home/biocbuild/bbs-3.21-bioc/R/site-library --timings breastCancerVDX_1.45.0.tar.gz StartedAt: 2025-02-06 11:48:31 -0500 (Thu, 06 Feb 2025) EndedAt: 2025-02-06 11:49:50 -0500 (Thu, 06 Feb 2025) EllapsedTime: 79.5 seconds RetCode: 0 Status: WARNINGS CheckDir: breastCancerVDX.Rcheck Warnings: 1