Package: brgedata Version: 1.29.0 Command: /home/biocbuild/bbs-3.21-bioc/R/bin/R CMD build --keep-empty-dirs --no-resave-data brgedata StartedAt: 2025-02-06 11:08:23 -0500 (Thu, 06 Feb 2025) EndedAt: 2025-02-06 11:12:24 -0500 (Thu, 06 Feb 2025) EllapsedTime: 240.8 seconds RetCode: 0 Status: OK PackageFile: brgedata_1.29.0.tar.gz PackageFileSize: 297 MiB