Package: brgedata Version: 1.29.0 Command: /home/biocbuild/bbs-3.21-bioc/R/bin/R CMD INSTALL brgedata StartedAt: 2025-02-04 10:58:13 -0500 (Tue, 04 Feb 2025) EndedAt: 2025-02-04 10:59:19 -0500 (Tue, 04 Feb 2025) EllapsedTime: 65.5 seconds RetCode: 0 Status: OK