Package: bsseqData Version: 0.45.0 Command: /home/biocbuild/bbs-3.21-bioc/R/bin/R CMD build --keep-empty-dirs --no-resave-data bsseqData StartedAt: 2025-02-06 11:08:24 -0500 (Thu, 06 Feb 2025) EndedAt: 2025-02-06 11:08:33 -0500 (Thu, 06 Feb 2025) EllapsedTime: 8.8 seconds RetCode: 0 Status: OK PackageFile: bsseqData_0.45.0.tar.gz PackageFileSize: 127.7 MiB