Package: bsseqData Version: 0.45.0 Command: /home/biocbuild/bbs-3.21-bioc/R/bin/R CMD check --install=check:bsseqData.install-out.txt --library=/home/biocbuild/bbs-3.21-bioc/R/site-library --timings bsseqData_0.45.0.tar.gz StartedAt: 2025-02-06 11:48:53 -0500 (Thu, 06 Feb 2025) EndedAt: 2025-02-06 11:51:31 -0500 (Thu, 06 Feb 2025) EllapsedTime: 157.8 seconds RetCode: 0 Status: WARNINGS CheckDir: bsseqData.Rcheck Warnings: 1