Package: cancerdata Version: 1.45.0 Command: /home/biocbuild/bbs-3.21-bioc/R/bin/R CMD build --keep-empty-dirs --no-resave-data cancerdata StartedAt: 2025-02-13 11:08:39 -0500 (Thu, 13 Feb 2025) EndedAt: 2025-02-13 11:08:41 -0500 (Thu, 13 Feb 2025) EllapsedTime: 2.8 seconds RetCode: 0 Status: OK PackageFile: cancerdata_1.45.0.tar.gz PackageFileSize: 26.69 MiB