Package: chipseqDBData Version: 1.23.0 Command: /home/biocbuild/bbs-3.21-bioc/R/bin/R CMD build --keep-empty-dirs --no-resave-data chipseqDBData StartedAt: 2025-02-04 11:09:39 -0500 (Tue, 04 Feb 2025) EndedAt: 2025-02-04 11:10:51 -0500 (Tue, 04 Feb 2025) EllapsedTime: 72.4 seconds RetCode: 0 Status: OK PackageFile: chipseqDBData_1.23.0.tar.gz PackageFileSize: 300.9 KiB