Package: chipseqDBData Version: 1.23.0 Command: /home/biocbuild/bbs-3.21-bioc/R/bin/R CMD check --install=check:chipseqDBData.install-out.txt --library=/home/biocbuild/bbs-3.21-bioc/R/site-library --timings chipseqDBData_1.23.0.tar.gz StartedAt: 2025-02-06 11:51:32 -0500 (Thu, 06 Feb 2025) EndedAt: 2025-02-06 11:54:18 -0500 (Thu, 06 Feb 2025) EllapsedTime: 166.0 seconds RetCode: 0 Status: OK CheckDir: chipseqDBData.Rcheck Warnings: 0