Package: chipseqDBData Version: 1.23.0 Command: /home/biocbuild/bbs-3.21-bioc/R/bin/R CMD INSTALL chipseqDBData StartedAt: 2025-02-06 11:00:27 -0500 (Thu, 06 Feb 2025) EndedAt: 2025-02-06 11:00:43 -0500 (Thu, 06 Feb 2025) EllapsedTime: 16.0 seconds RetCode: 0 Status: OK