Package: clustifyrdatahub Version: 1.17.0 Command: /home/biocbuild/bbs-3.21-bioc/R/bin/R CMD check --install=check:clustifyrdatahub.install-out.txt --library=/home/biocbuild/bbs-3.21-bioc/R/site-library --timings clustifyrdatahub_1.17.0.tar.gz StartedAt: 2025-02-06 11:53:00 -0500 (Thu, 06 Feb 2025) EndedAt: 2025-02-06 11:55:00 -0500 (Thu, 06 Feb 2025) EllapsedTime: 120.1 seconds RetCode: 0 Status: OK CheckDir: clustifyrdatahub.Rcheck Warnings: 0