Package: colonCA Version: 1.49.0 Command: /home/biocbuild/bbs-3.21-bioc/R/bin/R CMD INSTALL colonCA StartedAt: 2025-02-11 10:56:23 -0500 (Tue, 11 Feb 2025) EndedAt: 2025-02-11 10:56:25 -0500 (Tue, 11 Feb 2025) EllapsedTime: 2.4 seconds RetCode: 0 Status: OK