Package: curatedAdipoArray Version: 1.19.0 Command: /home/biocbuild/bbs-3.21-bioc/R/bin/R CMD check --install=check:curatedAdipoArray.install-out.txt --library=/home/biocbuild/bbs-3.21-bioc/R/site-library --timings curatedAdipoArray_1.19.0.tar.gz StartedAt: 2025-02-06 11:55:00 -0500 (Thu, 06 Feb 2025) EndedAt: 2025-02-06 11:55:28 -0500 (Thu, 06 Feb 2025) EllapsedTime: 27.3 seconds RetCode: 0 Status: OK CheckDir: curatedAdipoArray.Rcheck Warnings: 0