Package: curatedAdipoChIP Version: 1.23.0 Command: /home/biocbuild/bbs-3.21-bioc/R/bin/R CMD build --keep-empty-dirs --no-resave-data curatedAdipoChIP StartedAt: 2025-02-06 11:11:25 -0500 (Thu, 06 Feb 2025) EndedAt: 2025-02-06 11:13:13 -0500 (Thu, 06 Feb 2025) EllapsedTime: 108.1 seconds RetCode: 0 Status: OK PackageFile: curatedAdipoChIP_1.23.0.tar.gz PackageFileSize: 140.9 KiB