Package: curatedAdipoChIP Version: 1.23.0 Command: /home/biocbuild/bbs-3.21-bioc/R/bin/R CMD check --install=check:curatedAdipoChIP.install-out.txt --library=/home/biocbuild/bbs-3.21-bioc/R/site-library --timings curatedAdipoChIP_1.23.0.tar.gz StartedAt: 2025-02-06 11:55:04 -0500 (Thu, 06 Feb 2025) EndedAt: 2025-02-06 11:59:11 -0500 (Thu, 06 Feb 2025) EllapsedTime: 247.0 seconds RetCode: 0 Status: OK CheckDir: curatedAdipoChIP.Rcheck Warnings: 0