Package: curatedAdipoRNA Version: 1.23.0 Command: /home/biocbuild/bbs-3.21-bioc/R/bin/R CMD build --keep-empty-dirs --no-resave-data curatedAdipoRNA StartedAt: 2025-02-06 11:11:28 -0500 (Thu, 06 Feb 2025) EndedAt: 2025-02-06 11:12:52 -0500 (Thu, 06 Feb 2025) EllapsedTime: 84.3 seconds RetCode: 0 Status: OK PackageFile: curatedAdipoRNA_1.23.0.tar.gz PackageFileSize: 5.586 MiB