Package: curatedBreastData Version: 2.35.0 Maintainer: Katie Planey MaintainerEmail: katie.planey at gmail.com git_url: https://git.bioconductor.org/packages/curatedBreastData git_branch: devel git_last_commit: a06d1b7 git_last_commit_date: 2024-10-29 09:41:06 -0500 (Tue, 29 Oct 2024)