Package: curatedBreastData Version: 2.35.0 Command: /home/biocbuild/bbs-3.21-bioc/R/bin/R CMD check --install=check:curatedBreastData.install-out.txt --library=/home/biocbuild/bbs-3.21-bioc/R/site-library --timings curatedBreastData_2.35.0.tar.gz StartedAt: 2025-02-13 11:55:48 -0500 (Thu, 13 Feb 2025) EndedAt: 2025-02-13 12:02:44 -0500 (Thu, 13 Feb 2025) EllapsedTime: 415.9 seconds RetCode: 0 Status: OK CheckDir: curatedBreastData.Rcheck Warnings: 0