Package: curatedTBData Version: 2.3.0 Command: /home/biocbuild/bbs-3.21-bioc/R/bin/R CMD build --keep-empty-dirs --no-resave-data curatedTBData StartedAt: 2025-02-06 11:12:53 -0500 (Thu, 06 Feb 2025) EndedAt: 2025-02-06 11:15:31 -0500 (Thu, 06 Feb 2025) EllapsedTime: 158.8 seconds RetCode: 0 Status: OK PackageFile: curatedTBData_2.3.0.tar.gz PackageFileSize: 361.4 KiB