Package: curatedTBData Version: 2.3.0 Command: /home/biocbuild/bbs-3.21-bioc/R/bin/R CMD INSTALL curatedTBData StartedAt: 2025-02-06 10:59:02 -0500 (Thu, 06 Feb 2025) EndedAt: 2025-02-06 10:59:29 -0500 (Thu, 06 Feb 2025) EllapsedTime: 26.4 seconds RetCode: 0 Status: OK