Package: dressCheck Version: 0.45.0 Command: /home/biocbuild/bbs-3.21-bioc/R/bin/R CMD build --keep-empty-dirs --no-resave-data dressCheck StartedAt: 2025-02-06 11:14:59 -0500 (Thu, 06 Feb 2025) EndedAt: 2025-02-06 11:15:23 -0500 (Thu, 06 Feb 2025) EllapsedTime: 23.9 seconds RetCode: 0 Status: OK PackageFile: dressCheck_0.45.0.tar.gz PackageFileSize: 65.75 MiB