Package: dressCheck Version: 0.45.0 Command: /home/biocbuild/bbs-3.21-bioc/R/bin/R CMD check --install=check:dressCheck.install-out.txt --library=/home/biocbuild/bbs-3.21-bioc/R/site-library --timings dressCheck_0.45.0.tar.gz StartedAt: 2025-02-06 11:59:37 -0500 (Thu, 06 Feb 2025) EndedAt: 2025-02-06 12:00:25 -0500 (Thu, 06 Feb 2025) EllapsedTime: 48.3 seconds RetCode: 0 Status: OK CheckDir: dressCheck.Rcheck Warnings: 0