Package: easierData Version: 1.13.0 Command: /home/biocbuild/bbs-3.21-bioc/R/bin/R CMD build --keep-empty-dirs --no-resave-data easierData StartedAt: 2025-02-06 11:15:35 -0500 (Thu, 06 Feb 2025) EndedAt: 2025-02-06 11:16:21 -0500 (Thu, 06 Feb 2025) EllapsedTime: 46.1 seconds RetCode: 0 Status: OK PackageFile: easierData_1.13.0.tar.gz PackageFileSize: 408.3 KiB