Package: ecoliLeucine Version: 1.47.0 Command: /home/biocbuild/bbs-3.21-bioc/R/bin/R CMD INSTALL ecoliLeucine StartedAt: 2025-02-13 10:57:35 -0500 (Thu, 13 Feb 2025) EndedAt: 2025-02-13 10:57:44 -0500 (Thu, 13 Feb 2025) EllapsedTime: 9.2 seconds RetCode: 0 Status: OK